BEGIN:VCALENDAR
VERSION:2.0
PRODID:-//3nity.com//3nity CMS//EN
BEGIN:VEVENT
SUMMARY:The Recap
UID:2026-07-18-1216398@www.kingdomlifefaithcenter.org
SEQUENCE:0
STATUS:CONFIRMED
DTSTART:20260417T190000
DTEND:20260417T200000
DTSTAMP:20161222T120000
LOCATION: Kingdom Life Faith Center, 43816 15th St. West, Lancaster, CA 93534
DESCRIPTION:
URL:http://www.kingdomlifefaithcenter.org
END:VEVENT
END:VCALENDAR
