BEGIN:VCALENDAR
VERSION:2.0
PRODID:-//3nity.com//3nity CMS//EN
BEGIN:VEVENT
SUMMARY:Better Self Small Group
UID:2026-07-18-1205945@www.kingdomlifefaithcenter.org
SEQUENCE:0
STATUS:CONFIRMED
DTSTART:20260423T190000
DTEND:20260423T210000
DTSTAMP:20161222T120000
LOCATION: Kingdom Life Faith Center, , , CA 
DESCRIPTION:
URL:http://www.kingdomlifefaithcenter.org
END:VEVENT
END:VCALENDAR
